BEGIN:VCALENDAR
VERSION:2.0
PRODID:-//ERT//LNF26//DE
VERSION:2.0
BEGIN:VEVENT
UID:station_2872_20260324T160000Z
DTSTAMP:20260420T235300Z
URL:https://ert.langenachtderforschung.at/station/2872
DTSTART:20260324T160000Z
DTEND:20260424T210000Z
SUMMARY:[LNF26] Wie lassen sich Elektrizität und Robotik spielerisch miteinander verbinden?
DESCRIPTION:Unser Bristle-Bot ist ein Mini-Roboter, der sich durch die Vibration seines Motors fortbewegt. Dabei kommt er ganz ohne Räder, Beine oder sonstige Hilfsmittel aus. Komm und bau dir deinen eigenen kleinen Mini-Zahnbürstenroboter!\n\nDer Bristle-Bot ist ein Experiment unserer Science Clubs (Schulworkshops).
LOCATION:Hauffgasse 4A, 1110 Wien
GEO:48.17721370;16.41153380
END:VEVENT
END:VCALENDAR