BEGIN:VCALENDAR
VERSION:2.0
PRODID:-//ERT//LNF26//DE
VERSION:2.0
BEGIN:VEVENT
UID:station_2973_20260324T160000Z
DTSTAMP:20260421T143700Z
URL:https://ert.langenachtderforschung.at/station/2973
DTSTART:20260324T160000Z
DTEND:20260424T210000Z
SUMMARY:[LNF26] Welche Superkräfte stecken in porösen Materialien?
DESCRIPTION:Poröse Materialien sind echte Multitalente: Ihre winzigen Hohlräume bestimmen, wie leicht, stabil oder durchlässig sie sind – von Filtern über Wärmedämmung bis hin zu High-Tech-Keramiken. An dieser Station entdeckt ihr, wie Poren entstehen, wofür sie genutzt werden und warum ihre Erforschung 2025 mit dem Chemie-Nobelpreis ausgezeichnet wurde. Entdeckt mit uns die Welt der Löcher!
LOCATION:Erzabt-Klotz-Straße 1 Unipark, 5020 Salzburg
GEO:47.79478290;13.05415970
END:VEVENT
END:VCALENDAR