BEGIN:VCALENDAR
VERSION:2.0
PRODID:-//ERT//LNF26//DE
VERSION:2.0
BEGIN:VEVENT
UID:station_3014_20260324T160000Z
DTSTAMP:20260422T173900Z
URL:https://ert.langenachtderforschung.at/station/3014
DTSTART:20260324T160000Z
DTEND:20260424T210000Z
SUMMARY:[LNF26] Woher kommt ein Vogel geflogen? - Wie das Rätsel des Vogelzugs durch Beringung geknackt wurde....
DESCRIPTION:Die Markierung wildlebender Vögel mittels kleiner Ringe (Vogelberingung) ist eine wissenschaftliche Methode, um Zugrouten der Vogelarten zu erkunden und Bestandsentwicklungen zu erforschen. Die Österreichische Vogelwarte, ein Kooperationspartner der Biologischen Station, ermöglicht einen Blick aus nächster Nähe auf Brut- bzw. Zugvögel bei der Beringung. Weiters gibt es Spannendes über unsere Vogelwelt zu erfahren.
LOCATION:Seevorgelände 1, 7142 Illmitz
GEO:47.76906806;16.76626861
END:VEVENT
END:VCALENDAR