BEGIN:VCALENDAR
VERSION:2.0
PRODID:-//ERT//LNF26//DE
VERSION:2.0
BEGIN:VEVENT
UID:station_3015_20260324T160000Z
DTSTAMP:20260422T175600Z
URL:https://ert.langenachtderforschung.at/station/3015
DTSTART:20260324T160000Z
DTEND:20260424T210000Z
SUMMARY:[LNF26] Wie funktioniert eine Pollenfalle? Der Pollenwarndienst und wie er uns vor Allergien schützt...
DESCRIPTION:Erfahren Sie, wie der österreichische Pollenwarndienst, ein Kooperationspartner der Biologischen Station Neusiedler See, arbeitet und welche Services er anbietet, um Pollenallergiker:innen bestmöglich über die aktuell zu erwartenden allergischen Belastungen durch Pollenflug zu informieren. Lernen Sie die gängigsten Pollen stark vergrößert kennen und erfahren Sie mehr zu diesem Thema.
LOCATION:Seevorgelände 1, 7142 Illmitz
GEO:47.76906806;16.76626861
END:VEVENT
END:VCALENDAR