BEGIN:VCALENDAR
VERSION:2.0
PRODID:-//ERT//LNF26//DE
VERSION:2.0
BEGIN:VEVENT
UID:station_3016_20260324T160000Z
DTSTAMP:20260422T192200Z
URL:https://ert.langenachtderforschung.at/station/3016
DTSTART:20260324T160000Z
DTEND:20260424T210000Z
SUMMARY:[LNF26] Treibhausgase und der Schilfgürtel des Neusiedler Sees - Gibt es da Zusammenhänge?
DESCRIPTION:Die Arbeitsgruppe Geoökologie der Universität Wien, ein Kooperationspartner der Biologischen Station Neusiedler See, präsentiert ihre Forschungstätigkeiten im Schilfgürtel. Diese umfassen Treibhausgasmessungen, Sediment- und Wasseranalysen sowie Schilfflächen-Monitoring. Wer einen Einblick in die praktische Forschung bekommen möchte, kann die Forscher:innen zu einer Demonstrationsmessung im Schilfgürtel begleiten.
LOCATION:Seevorgelände 1, 7142 Illmitz
GEO:47.76906806;16.76626861
END:VEVENT
END:VCALENDAR