BEGIN:VCALENDAR
VERSION:2.0
PRODID:-//ERT//LNF26//DE
VERSION:2.0
BEGIN:VEVENT
UID:station_3065_20260324T160000Z
DTSTAMP:20260420T020400Z
URL:https://ert.langenachtderforschung.at/station/3065
DTSTART:20260324T160000Z
DTEND:20260424T204500Z
SUMMARY:[LNF26] Weltmarktführer in Dichte- und Konzentrationsmessung – und was hat das mit unserem Alltag zu tun?
DESCRIPTION:Die Welt der Dichte- und Konzentrationsmessung spielt eine entscheidende Rolle in vielen Branchen. Diese Technologie, entwickelt und perfektioniert von Weltmarktführer Anton Paar, ermöglicht es, die Qualität und Zusammensetzung von Produkten zu verstehen, die wir täglich nutzen. Probieren Sie es selbst aus und messen Sie den Zuckergehalt in Ihrer Lieblingslimonade, damit jeder Schluck perfekt ist.
LOCATION:Anton-Paar-Straße 20, 8054 Graz
GEO:47.03112409;15.40448964
END:VEVENT
END:VCALENDAR