BEGIN:VCALENDAR
VERSION:2.0
PRODID:-//ERT//LNF26//DE
VERSION:2.0
BEGIN:VEVENT
UID:station_3067_20260324T160000Z
DTSTAMP:20260420T020400Z
URL:https://ert.langenachtderforschung.at/station/3067
DTSTART:20260324T160000Z
DTEND:20260424T204500Z
SUMMARY:[LNF26] Alles fließt – aber wie machen wir das messbar?
DESCRIPTION:Ob Zahnpasta, Schokolade oder Polymer – ein Rheometer misst die Fließ- und Verformungseigenschaften von Materialien. Doch wie werden diese Eigenschaften präzise bestimmt und warum ist das auch für unseren Alltag wichtig? Entdecken Sie mit uns anhand anschaulicher Beispiele aus täglichen Leben die faszinierende Welt der Rheologie.
LOCATION:Anton-Paar-Straße 20, 8054 Graz
GEO:47.03112409;15.40448964
END:VEVENT
END:VCALENDAR