BEGIN:VCALENDAR
VERSION:2.0
PRODID:-//ERT//LNF26//DE
VERSION:2.0
BEGIN:VEVENT
UID:station_3072_20260324T160000Z
DTSTAMP:20260420T033700Z
URL:https://ert.langenachtderforschung.at/station/3072
DTSTART:20260324T160000Z
DTEND:20260424T204500Z
SUMMARY:[LNF26] Anton Paar @home – Wie wird man auch zuhause zum smarten Messprofi?
DESCRIPTION:Mit dem Dichtemessgerät EasyDens, dem Refraktometer SmartRef und dem neuen pH-Messgerät pH2Go zeigen wir, wie einfach Analytik sein kann - auch bei Ihnen zu Hause.\nOb süße Früchte, frischer Saft, kräftiger Kaffee oder spritzige Softdrinks: Mit unseren Messgeräten wird aus Bauchgefühl Gewissheit. In einem interaktiven Workshop bestimmen Sie Süße, Alkoholgehalt, Extrakt und pH-wert – präzise und mit nur einem Klick.
LOCATION:Anton-Paar-Straße 20, 8054 Graz
GEO:47.03112409;15.40448964
END:VEVENT
END:VCALENDAR