BEGIN:VCALENDAR
VERSION:2.0
PRODID:-//ERT//LNF26//DE
VERSION:2.0
BEGIN:VEVENT
UID:station_3073_20260324T160000Z
DTSTAMP:20260420T020400Z
URL:https://ert.langenachtderforschung.at/station/3073
DTSTART:20260324T160000Z
DTEND:20260424T200000Z
SUMMARY:[LNF26] Anton Paar 4 Kids - Welche kleinen Entdeckungen warten hier darauf, erforscht zu werden?
DESCRIPTION:Für kleine und große Entdeckerinnen und Entdecker:\nMitmachen, staunen, ausprobieren – hier wird geforscht!\nGeeignet ab dem Kleinkindalter und offen für alle, die neugierig geblieben sind.
LOCATION:Anton-Paar-Straße 20, 8054 Graz
GEO:47.03112409;15.40448964
END:VEVENT
END:VCALENDAR