BEGIN:VCALENDAR
VERSION:2.0
PRODID:-//ERT//LNF26//DE
VERSION:2.0
BEGIN:VEVENT
UID:station_3110_20260324T160000Z
DTSTAMP:20260420T003200Z
URL:https://ert.langenachtderforschung.at/station/3110
DTSTART:20260324T160000Z
DTEND:20260424T204500Z
SUMMARY:[LNF26] Alles über Anton Paar - wie wurde aus einer kleinen Schlosserei ein Weltmarktführer?
DESCRIPTION:Das über 100 Jahre alte Hightech-Unternehmen ist ein weltweit agierender Hersteller von präzisen Laborgeräten sowie Prozessmesstechnik und liefert auch maßgeschneiderte Automations- und Robotiklösungen. Doch was heißt das überhaupt? Wo und wie hat alles begonnen? Und wie entwickelt man sich zum Weltmarktführer? Auf diese und viele weitere Fragen liefert unsere neue Ausstellung spannende Antworten.
LOCATION:Anton-Paar-Straße 20, 8054 Graz
GEO:47.03112409;15.40448964
END:VEVENT
END:VCALENDAR