BEGIN:VCALENDAR
VERSION:2.0
PRODID:-//ERT//LNF26//DE
VERSION:2.0
BEGIN:VEVENT
UID:station_3115_20260424T153000Z
DTSTAMP:20260420T003100Z
URL:https://ert.langenachtderforschung.at/station/3115
DTSTART:20260424T153000Z
DTEND:20260424T163000Z
SUMMARY:[LNF26] ScienceTalk um 17:30 Uhr Künstliche Intelligenz: Wie sich die Wirtschaft verändert.
DESCRIPTION:KI in der Ausbildung, Arbeitsmarkt, Nutzen und Gefahren\n(Digitalisierung & Mikroelektronik)
LOCATION:Lendkai 17, 8010 Graz
GEO:47.07247980;15.43376940
END:VEVENT
END:VCALENDAR