BEGIN:VCALENDAR
VERSION:2.0
PRODID:-//ERT//LNF26//DE
VERSION:2.0
BEGIN:VEVENT
UID:station_3117_20260424T163000Z
DTSTAMP:20260420T003100Z
URL:https://ert.langenachtderforschung.at/station/3117
DTSTART:20260424T163000Z
DTEND:20260424T173000Z
SUMMARY:[LNF26] ScienceTalk um 18:30 Uhr Humantechnologie: Moderne Medizin oder Zauberei?
DESCRIPTION:Telemedizin, individuelle Medikation, KI in der Diagnose, Robotik im OP\n(Gesundheit & Life Science)
LOCATION:Lendkai 17, 8010 Graz
GEO:47.07247980;15.43376940
END:VEVENT
END:VCALENDAR