BEGIN:VCALENDAR
VERSION:2.0
PRODID:-//ERT//LNF26//DE
VERSION:2.0
BEGIN:VEVENT
UID:station_3118_20260424T173000Z
DTSTAMP:20260420T020600Z
URL:https://ert.langenachtderforschung.at/station/3118
DTSTART:20260424T173000Z
DTEND:20260424T183000Z
SUMMARY:[LNF26] ScienceTalk um 19:30 Uhr Mobilität der Zukunft: Welche Infrastruktur jetzt noch fehlt.
DESCRIPTION:Ladeinfrastruktur, Netzausbau,\nAutonomes Fahren (Neue Mobilität)
LOCATION:Lendkai 17, 8010 Graz
GEO:47.07247980;15.43376940
END:VEVENT
END:VCALENDAR