BEGIN:VCALENDAR
VERSION:2.0
PRODID:-//ERT//LNF26//DE
VERSION:2.0
BEGIN:VEVENT
UID:station_3119_20260424T183000Z
DTSTAMP:20260420T003200Z
URL:https://ert.langenachtderforschung.at/station/3119
DTSTART:20260424T183000Z
DTEND:20260424T193000Z
SUMMARY:[LNF26] ScienceTalk um 20:30 Uhr Umwelt. Kreislauf. Energie. Wie Wissenschaft die Welt rettet.
DESCRIPTION:Ressourcen für Europa, Lieferketten, Kreislaufwirtschaft\n(Grüne Transformation)
LOCATION:Lendkai 17, 8010 Graz
GEO:47.07247980;15.43376940
END:VEVENT
END:VCALENDAR