BEGIN:VCALENDAR
VERSION:2.0
PRODID:-//ERT//LNF26//DE
VERSION:2.0
BEGIN:VEVENT
UID:station_320_20260324T160000Z
DTSTAMP:20260421T002100Z
URL:https://ert.langenachtderforschung.at/station/320
DTSTART:20260324T160000Z
DTEND:20260424T210000Z
SUMMARY:[LNF26] Wie alt ist dieser archäologische Fund?
DESCRIPTION:Was ist ein archäologischer Fund? Wie bestimmt man sein Alter, das Rohmaterial und die frühere Funktion? Welche Aussagen liefert er über das Leben in der Vergangenheit? An dieser Station des Forschungsprojekts „reCLAYm?“ darf sich jeder und jede am Bestimmen und Datieren von echten Funden versuchen.
LOCATION:Schlossgasse 1, 2151 Asparn/Zaya
GEO:48.58882465;16.49122819
END:VEVENT
END:VCALENDAR