BEGIN:VCALENDAR
VERSION:2.0
PRODID:-//ERT//LNF26//DE
VERSION:2.0
BEGIN:VEVENT
UID:station_3231_20260324T160000Z
DTSTAMP:20260422T174400Z
URL:https://ert.langenachtderforschung.at/station/3231
DTSTART:20260324T160000Z
DTEND:20260424T210000Z
SUMMARY:[LNF26] Wie wissen wir, ob wir gutes Trink- und Badewasser haben?
DESCRIPTION:Das akkreditierte Labor der Biologischen Station testet das burgenländische Trinkwasser und die Wässer aus Frei- und Hallenbäder regelmäßig und überprüft die Einhaltung hoher Qualitätsansprüche. Erleben Sie einen Einblick in die mikrobiologischen und chemischen Testmethoden, lernen Sie mehr über Bakterien und Schadstoffe im Wasser - was ist unbedenklich und wann wird es gefährlich.....
LOCATION:Seevorgelände 1, 7142 Illmitz
GEO:47.76906806;16.76626861
END:VEVENT
END:VCALENDAR