BEGIN:VCALENDAR
VERSION:2.0
PRODID:-//ERT//LNF26//DE
VERSION:2.0
BEGIN:VEVENT
UID:station_3261_20260324T160000Z
DTSTAMP:20260420T194200Z
URL:https://ert.langenachtderforschung.at/station/3261
DTSTART:20260324T160000Z
DTEND:20260424T210000Z
SUMMARY:[LNF26] Warum sind lebende Insekten in der Insektensammlung gefährlich?
DESCRIPTION:An der Station der Landessammlung Niederösterreich werden Beispiele von naturkundlichen Objekten gezeigt und für sie schädliche Insekten vorgestellt. Im Binokular, anhand von Bildern und mittels Exponaten können diese ungebetenen Gäste und mögliche Gegenmaßnahmen kennengelernt werden.
LOCATION:Kulturbezirk 5, 3100 St. Pölten
GEO:48.20026944;15.63139111
END:VEVENT
END:VCALENDAR