BEGIN:VCALENDAR
VERSION:2.0
PRODID:-//ERT//LNF26//DE
VERSION:2.0
BEGIN:VEVENT
UID:station_331_20260324T160000Z
DTSTAMP:20260424T102200Z
URL:https://ert.langenachtderforschung.at/station/331
DTSTART:20260324T160000Z
DTEND:20260424T203000Z
SUMMARY:[LNF26] Können Drohnen selbstständig fliegen? robo4you!
DESCRIPTION:Lass Dir zeigen und probiere selbst aus, was die Jugendlichen der HTL Wiener Neustadt nicht nur kennen, sondern auch können! Drohnen fliegen und der Drohne die Entscheidungen selbstständig treffen lassen - das ist nicht nur aktuell, sondern macht auch viel Spaß! Schaffst du den Drohnen-Parkour? Wir freuen uns auf Dein Kommen!
LOCATION:Viktor Kaplan Strasse 2 TFZ, 2700 Wiener Neustadt
GEO:47.83725022;16.25247860
END:VEVENT
END:VCALENDAR