BEGIN:VCALENDAR
VERSION:2.0
PRODID:-//ERT//LNF26//DE
VERSION:2.0
BEGIN:VEVENT
UID:station_3313_20260324T160000Z
DTSTAMP:20260424T102500Z
URL:https://ert.langenachtderforschung.at/station/3313
DTSTART:20260324T160000Z
DTEND:20260424T203000Z
SUMMARY:[LNF26] Warum sehen Farben bei anderem Licht plötzlich anders aus?
DESCRIPTION:Licht besteht aus vielen verschiedenen Farben. Wenn Licht auf Dinge trifft, werfen sie manche Farben zurück und andere nicht. Unsere Augen sehen diese Farben. Ändert sich das Licht, ändern sich auch die Farben, die wir sehen. Darum können zwei Farben bei einem Licht gleich aussehen, bei einem anderen Licht aber verschieden. Im Experiment zeigen Proben in einer Lichtkabine dieses Phänomen: Metamerie.
LOCATION:Viktor Kaplan Strasse 2 TFZ, 2700 Wiener Neustadt
GEO:47.83725022;16.25247860
END:VEVENT
END:VCALENDAR