BEGIN:VCALENDAR
VERSION:2.0
PRODID:-//ERT//LNF26//DE
VERSION:2.0
BEGIN:VEVENT
UID:station_3378_20260324T160000Z
DTSTAMP:20260424T102500Z
URL:https://ert.langenachtderforschung.at/station/3378
DTSTART:20260324T160000Z
DTEND:20260424T204500Z
SUMMARY:[LNF26] Welche Kunststoff Sackerl sind noch erlaubt?
DESCRIPTION:Willkommen in der spannenden Welt der Biopolymere – nachhaltig, vielseitig und zum Staunen! In dieser interaktiven Station dreht sich alles um diese besonderen Kunststoffe: Wie Biopolymere entstehen, verarbeitet werden und nachhaltig genutzt oder recycelt werden können.
LOCATION:Viktor Kaplan Strasse 2 TFZ, 2700 Wiener Neustadt
GEO:47.83725022;16.25247860
END:VEVENT
END:VCALENDAR