BEGIN:VCALENDAR
VERSION:2.0
PRODID:-//ERT//LNF26//DE
VERSION:2.0
BEGIN:VEVENT
UID:station_3379_20260324T160000Z
DTSTAMP:20260422T221400Z
URL:https://ert.langenachtderforschung.at/station/3379
DTSTART:20260324T160000Z
DTEND:20260424T204500Z
SUMMARY:[LNF26] Wie können Kinder und Erwachsene gemeinsam die Modewelt nachhaltig verändern?
DESCRIPTION:Woher kommt eigentlich unser T-Shirt – und was passiert, wenn wir zu viel kaufen? In dieser Station tauchen Kinder und Erwachsene gemeinsam in die Welt der Mode ein und entdecken spannende Fakten über die Herstellung und unseren Umgang mit Kleidung. Mit Kreativität und Spaß zeigen wir: Nachhaltige Mode kann richtig cool sein!
LOCATION:Johannes-Gutenberg-Straße 3 Innovation Lab und Area27 (J. Gutenberg-Straße 5), 2700 Wiener Neustadt
GEO:47.83811166;16.24962151
END:VEVENT
END:VCALENDAR