BEGIN:VCALENDAR
VERSION:2.0
PRODID:-//ERT//LNF26//DE
VERSION:2.0
BEGIN:VEVENT
UID:station_3380_20260324T160000Z
DTSTAMP:20260422T221400Z
URL:https://ert.langenachtderforschung.at/station/3380
DTSTART:20260324T160000Z
DTEND:20260424T204500Z
SUMMARY:[LNF26] Was ist das Faszinierende an der Welt der Robotik?
DESCRIPTION:Entdecken Sie die Welt der Robotik! Im Labor zeigen wir Ihnen verschiedene Projekte mit Industrierobotern zur Automatisierung. Außerdem erkunden unsere mobilen Roboter autonom die Umgebung und wir erklären Ihnen genau, wie das funktioniert.
LOCATION:Johannes-Gutenberg-Straße 3 Innovation Lab und Area27 (J. Gutenberg-Straße 5), 2700 Wiener Neustadt
GEO:47.83811166;16.24962151
END:VEVENT
END:VCALENDAR