BEGIN:VCALENDAR
VERSION:2.0
PRODID:-//ERT//LNF26//DE
VERSION:2.0
BEGIN:VEVENT
UID:station_339_20260324T160000Z
DTSTAMP:20260421T002200Z
URL:https://ert.langenachtderforschung.at/station/339
DTSTART:20260324T160000Z
DTEND:20260424T210000Z
SUMMARY:[LNF26] Wie lassen sich neue technische Errungenschaften und Forschungsgegenstände in unseren Alltag integrieren?
DESCRIPTION:Im spielerischen Umgang mit den Phänomenen ist es bei uns möglich, Naturwissenschaft im ursprünglichsten Sinne des Wortes zu „be-greifen“, statt „nur faktisch“ zu lernen.\nAlle Exhibits sind hands-on und interaktiv, wollen ausprobiert werden und warten darauf erforscht zu werden.\n\nKinder wie Erwachsene betreten spielerisch die Welt der Wissenschaften und lernen durch aktives Entdecken.
LOCATION:Hauffgasse 4A, 1110 Wien
GEO:48.17721370;16.41153380
END:VEVENT
END:VCALENDAR