BEGIN:VCALENDAR
VERSION:2.0
PRODID:-//ERT//LNF26//DE
VERSION:2.0
BEGIN:VEVENT
UID:station_3422_20260324T160000Z
DTSTAMP:20260424T102600Z
URL:https://ert.langenachtderforschung.at/station/3422
DTSTART:20260324T160000Z
DTEND:20260424T203000Z
SUMMARY:[LNF26] Bilder unseres Körpers – Was sagen sie uns?
DESCRIPTION:Wir zeigen was Röntgenbilder, Ultraschall, MRT und CT uns über unseren Körper sagen und wie diese Bilder bei der Diagnose von Krankheiten helfen. Baut mit uns Anatomie-Puzzles, erkundet Anatomiemodelle und lernt mit unserer Regenbogen-Röntgenbox, wie unterschiedlich das Skelett der Hand bei Kindern und Erwachsenen aussieht - und das ganz strahlungsfrei!
LOCATION:Viktor Kaplan Strasse 2 TFZ, 2700 Wiener Neustadt
GEO:47.83725022;16.25247860
END:VEVENT
END:VCALENDAR