BEGIN:VCALENDAR
VERSION:2.0
PRODID:-//ERT//LNF26//DE
VERSION:2.0
BEGIN:VEVENT
UID:station_3423_20260324T160000Z
DTSTAMP:20260424T102600Z
URL:https://ert.langenachtderforschung.at/station/3423
DTSTART:20260324T160000Z
DTEND:20260424T194500Z
SUMMARY:[LNF26] Krankheiten mit Licht auf der Spur?
DESCRIPTION:Die Oberflächenplasmonenspektroskopie (SPR) wird verwendet, um Krankheiten zu erkennen und neue Medikamente zu testen. Dabei schaut man sich an, wie bestimmte biologische Moleküle – wie beispielsweise Antikörper und Antigene – miteinander reagieren. Dafür wird eine lichtleitende Faser verwendet, die Veränderungen im Licht misst, wenn sich die Moleküle verbinden. Dies kann an unserer Station ausprobiert werden.
LOCATION:Viktor Kaplan Strasse 2 TFZ, 2700 Wiener Neustadt
GEO:47.83725022;16.25247860
END:VEVENT
END:VCALENDAR