BEGIN:VCALENDAR
VERSION:2.0
PRODID:-//ERT//LNF26//DE
VERSION:2.0
BEGIN:VEVENT
UID:station_3435_20260324T160000Z
DTSTAMP:20260424T102700Z
URL:https://ert.langenachtderforschung.at/station/3435
DTSTART:20260324T160000Z
DTEND:20260424T203000Z
SUMMARY:[LNF26] Was ist das Mineral des Jahres?
DESCRIPTION:Wie können Steine wichtige Impulse für den Fortschritt von Technik und Wissenschaft liefern? Fragen zur Relevanz von Mineralen für unser tägliches Leben werden hier am Beispiel der letzten „Minerale des Jahres“ beantwortet. Darüber hinaus gibt es Informationen zu weiteren aktuellen Forschungsprojekten - erfahren Sie von antiken Farben, über "neue" Wildtiere bis zu Jubiläen der Mobilitätsgeschichte.
LOCATION:Viktor Kaplan Strasse 2 TFZ, 2700 Wiener Neustadt
GEO:47.83725022;16.25247860
END:VEVENT
END:VCALENDAR