BEGIN:VCALENDAR
VERSION:2.0
PRODID:-//ERT//LNF26//DE
VERSION:2.0
BEGIN:VEVENT
UID:station_3447_20260324T160000Z
DTSTAMP:20260421T001100Z
URL:https://ert.langenachtderforschung.at/station/3447
DTSTART:20260324T160000Z
DTEND:20260424T180000Z
SUMMARY:[LNF26] Jungforscher:innen-Pass
DESCRIPTION:Für aktive junge Besucher:innen gibt es an unserem Standort einen Jungforscher:innen-Pass. Wer alle Aufgaben meistert, bekommt einen kleinen Preis!
LOCATION:Campus-Platz 1, 3100 St. Pölten
GEO:48.21313058;15.63179719
END:VEVENT
END:VCALENDAR