BEGIN:VCALENDAR
VERSION:2.0
PRODID:-//ERT//LNF26//DE
VERSION:2.0
BEGIN:VEVENT
UID:station_3451_20260324T160000Z
DTSTAMP:20260420T051900Z
URL:https://ert.langenachtderforschung.at/station/3451
DTSTART:20260324T160000Z
DTEND:20260424T200000Z
SUMMARY:[LNF26] Wie baut der Körper aus Farben ein funktionierendes Protein?
DESCRIPTION:Mit bunten Perlen und Alltagsgegenständen erkunden wir das zentrale Dogma der Molekularbiologie: von der DNA zur RNA zum Protein. Die Besucher:innen basteln eigene Protein-Ketten und lernen spielerisch, wie genetische Informationen unseren Körper steuern – ganz ohne Pipette!
LOCATION:Frauentorgasse 72-74, 3430 Tulln
GEO:48.31857600;16.05586298
END:VEVENT
END:VCALENDAR