BEGIN:VCALENDAR
VERSION:2.0
PRODID:-//ERT//LNF26//DE
VERSION:2.0
BEGIN:VEVENT
UID:station_3499_20260324T160000Z
DTSTAMP:20260421T151300Z
URL:https://ert.langenachtderforschung.at/station/3499
DTSTART:20260324T160000Z
DTEND:20260424T210000Z
SUMMARY:[LNF26] Gefährdet der Klimawandel unsere Nahrungsmittel? BIOTOXDoc - Europäische Forschung für neue Tools zur Kontrolle, Eindämmung und Risikobewertung von Giften aus Pilzen, Algen und Pflanzen
DESCRIPTION:BIOTOXDoc ist ein von der EU gefördertes Doktorats-Netzwerk. Im Rahmen dieses Projekts arbeiten zehn Studierende in acht europäischen Ländern an verschiedenen Aspekten der Lebensmittelsicherheit, die aufgrund steigender Temperaturen gefährdet ist. Anhand von Postern werden die einzelnen Forschungsprojekte, die Partner aus Wirtschaft und Forschung und der Einfluss des Klimawandels vorgestellt und erklärt.
LOCATION:Konrad Lorenz Straße 24, 3430 Tulln
GEO:48.32077312;16.06863138
END:VEVENT
END:VCALENDAR