BEGIN:VCALENDAR
VERSION:2.0
PRODID:-//ERT//LNF26//DE
VERSION:2.0
BEGIN:VEVENT
UID:station_3500_20260324T160000Z
DTSTAMP:20260420T051900Z
URL:https://ert.langenachtderforschung.at/station/3500
DTSTART:20260324T160000Z
DTEND:20260424T200000Z
SUMMARY:[LNF26] Wie kann CO₂ zu etwas Nützlichem werden?
DESCRIPTION:Cyan Cycle zeigt, wie aus CO₂ mithilfe von Cyanobakterien neue Biomasse entsteht. Bei unserer Station können Cyanobakterien unter dem Mikroskop betrachtet, an einer Pipettierstation einfache Experimente durchgeführt und ein kleiner, blubbernder Photobioreaktor gesteuert werden. Zusätzlich werden Biomasseproben und daraus hergestellte Produkte präsentiert.
LOCATION:Frauentorgasse 72-74, 3430 Tulln
GEO:48.31857600;16.05586298
END:VEVENT
END:VCALENDAR