BEGIN:VCALENDAR
VERSION:2.0
PRODID:-//ERT//LNF26//DE
VERSION:2.0
BEGIN:VEVENT
UID:station_3504_20260324T160000Z
DTSTAMP:20260424T090100Z
URL:https://ert.langenachtderforschung.at/station/3504
DTSTART:20260324T160000Z
DTEND:20260424T203000Z
SUMMARY:[LNF26] Kannst du das Farb‑Rätsel lösen? Probier mal!
DESCRIPTION:Bei unserem Stand kannst du herausfinden, wie gut deine Augen den feinen Unterschied der Farbtöne erkennen können. Dafür nutzen wir spezielle Farbtests mit Hilfe des “Munsell-Farbsystems” mit sehr ähnlichen Farbtönen. Unsere Augen besitzen drei Arten von Farbrezeptoren. Sie helfen uns, alle Farben der Welt zu erkennen.\nIn kleinen Farb‑Challenges kannst du ausprobieren, wie fein dein Farbsehen ist
LOCATION:Viktor Kaplan Strasse 2 TFZ, 2700 Wiener Neustadt
GEO:47.83725022;16.25247860
END:VEVENT
END:VCALENDAR