BEGIN:VCALENDAR
VERSION:2.0
PRODID:-//ERT//LNF26//DE
VERSION:2.0
BEGIN:VEVENT
UID:station_3505_20260324T160000Z
DTSTAMP:20260424T102700Z
URL:https://ert.langenachtderforschung.at/station/3505
DTSTART:20260324T160000Z
DTEND:20260424T203000Z
SUMMARY:[LNF26] Gestalte dein eigenes Baumit Logo mit Mosaikkörnung
DESCRIPTION:Das von der Drymix Station angefertigte Logo wird mit Kleister bestrichen und dann je nach Lust und Laune mit bunten Mosaikkörnungen verziert.
LOCATION:Viktor Kaplan Strasse 2 TFZ, 2700 Wiener Neustadt
GEO:47.83725022;16.25247860
END:VEVENT
END:VCALENDAR