BEGIN:VCALENDAR
VERSION:2.0
PRODID:-//ERT//LNF26//DE
VERSION:2.0
BEGIN:VEVENT
UID:station_3529_20260324T160000Z
DTSTAMP:20260420T033700Z
URL:https://ert.langenachtderforschung.at/station/3529
DTSTART:20260324T160000Z
DTEND:20260424T200000Z
SUMMARY:[LNF26] Ich riech‘, ich riech‘, was du (nicht) riechst – die elektronische Nase
DESCRIPTION:NOSI demonstriert die neuesten Entwicklungen der künstlichen Geruchserkennung. Ähnlich wie die Nase von Mensch und Tier gelingt es elektronischen Nasen dank Biomimetik und künstlicher Intelligenz Gerüche voneinander zu unterscheiden. Von selbstlernenden, portablen Geruchssensoren bis zu autonom riechenden Robotern – dem Geruch auf der Spur.
LOCATION:Frauentorgasse 72-74, 3430 Tulln
GEO:48.31857600;16.05586298
END:VEVENT
END:VCALENDAR