BEGIN:VCALENDAR
VERSION:2.0
PRODID:-//ERT//LNF26//DE
VERSION:2.0
BEGIN:VEVENT
UID:station_3531_20260324T160000Z
DTSTAMP:20260420T051900Z
URL:https://ert.langenachtderforschung.at/station/3531
DTSTART:20260324T160000Z
DTEND:20260424T200000Z
SUMMARY:[LNF26] Fit und gesund durch richtige Ernährung – Nährstoffaufnahme bei Entzündung verstehen
DESCRIPTION:Wenn Haustiere chronisch krank sind, leidet die ganze Familie mit. Ein innovatives Start-up entwickelt neue Produkte für Hunde und Pferde, die die Nährstoffaufnahme auf einem besonderen Weg ermöglichen. So können Organe besser versorgt und die Lebensqualität der Tiere spürbar verbessert werden.
LOCATION:Frauentorgasse 72-74, 3430 Tulln
GEO:48.31857600;16.05586298
END:VEVENT
END:VCALENDAR