BEGIN:VCALENDAR
VERSION:2.0
PRODID:-//ERT//LNF26//DE
VERSION:2.0
BEGIN:VEVENT
UID:station_3532_20260324T160000Z
DTSTAMP:20260420T051900Z
URL:https://ert.langenachtderforschung.at/station/3532
DTSTART:20260324T160000Z
DTEND:20260424T200000Z
SUMMARY:[LNF26] Wie lassen Nebenprodukte aus der Bierproduktion Pflanzen wachsen?
DESCRIPTION:Das Start-up Brewcycle forscht an der Herstellung von Biodünger aus Brauabfällen. Was normalerweise entsorgt wird, wird hier zu einem wertvollen Produkt für eine nachhaltige Landwirtschaft. An der Station erfahren Besucher:innen, wie Kreislaufwirtschaft in der Praxis funktioniert, und können den entwickelten Biodünger aus nächster Nähe kennenlernen.
LOCATION:Frauentorgasse 72-74, 3430 Tulln
GEO:48.31857600;16.05586298
END:VEVENT
END:VCALENDAR