BEGIN:VCALENDAR
VERSION:2.0
PRODID:-//ERT//LNF26//DE
VERSION:2.0
BEGIN:VEVENT
UID:station_3539_20260324T160000Z
DTSTAMP:20260421T002500Z
URL:https://ert.langenachtderforschung.at/station/3539
DTSTART:20260324T160000Z
DTEND:20260424T210000Z
SUMMARY:[LNF26] Wie lebten die Menschen der Frühbronzezeit?
DESCRIPTION:Scherben von Tassen mit tiefsitzendem Bauchknick, Tierknochen mit Schnittspuren, Schmuck, Geräte oder Waffen aus Bronze: Die Spuren, die die Menschen der Bronzezeit hinterließen, sind vielfältig. Doch wie lässt sich daraus heute ein Bild ihrer Lebensweise rekonstruieren? Dieser Frage können Sie bei der Langen Nacht der Forschung gemeinsam mit Archäologen nachgehen.
LOCATION:Schlossgasse 1, 2151 Asparn/Zaya
GEO:48.58882465;16.49122819
END:VEVENT
END:VCALENDAR