BEGIN:VCALENDAR
VERSION:2.0
PRODID:-//ERT//LNF26//DE
VERSION:2.0
BEGIN:VEVENT
UID:station_3544_20260424T150000Z
DTSTAMP:20260422T221500Z
URL:https://ert.langenachtderforschung.at/station/3544
DTSTART:20260424T150000Z
DTEND:20260424T160000Z
SUMMARY:[LNF26] Laserblick in die Zelle – Science oder Fiction?
DESCRIPTION:Zellen reagieren auf äußere Einflüsse, doch ihre Veränderungen sind für uns nicht direkt sichtbar. Die Kombination aus Mikroskopie, winzigen Goldpartikeln und Laserstrahlen gemeinsam mit modernster digitaler Datenverarbeitung ermöglicht es, vielfältige Informationen von Zellen mit der Raman-Spektroskopie zu erhalten. Zum Beispiel, wie sich eine Krebszelle verändert, wenn sie mit Medikamenten behandelt wird.
LOCATION:Konrad Lorenz Straße 10, 3430 Tulln
GEO:48.32043157;16.06446745
END:VEVENT
END:VCALENDAR