BEGIN:VCALENDAR
VERSION:2.0
PRODID:-//ERT//LNF26//DE
VERSION:2.0
BEGIN:VEVENT
UID:station_3568_20260324T160000Z
DTSTAMP:20260420T145400Z
URL:https://ert.langenachtderforschung.at/station/3568
DTSTART:20260324T160000Z
DTEND:20260424T210000Z
SUMMARY:[LNF26] Wie fremd klingt Deutsch?
DESCRIPTION:Zwischen Bern, Berlin und Wien liegen sprachlich gesehen Welten. Wie unterschiedlich sich das Deutsche anhört, präsentiert ein Dialektimitator live. Wie viele Sprachen gibt es auf der Welt? Und welche davon werden in Österreich gesprochen? Bei einem Quiz an der Station können Sie in diese Vielfalt eintauchen, ohne weit zu reisen.
LOCATION:Universitätsplatz 3a, 8010 Graz
GEO:47.07805140;15.45052973
END:VEVENT
END:VCALENDAR