BEGIN:VCALENDAR
VERSION:2.0
PRODID:-//ERT//LNF26//DE
VERSION:2.0
BEGIN:VEVENT
UID:station_3569_20260324T160000Z
DTSTAMP:20260420T051900Z
URL:https://ert.langenachtderforschung.at/station/3569
DTSTART:20260324T160000Z
DTEND:20260424T200000Z
SUMMARY:[LNF26] Was ist eigentlich Bionik?
DESCRIPTION:Wie bewegt sich die Natur – und was kann die Technik daraus lernen? Der Verein für regenerative Bionik zeigt bionische Bewegungsabläufe aus der Natur und ihre Anwendung in der Technik. An einer spielerischen Mitmachstation können Besucher*innen mit Lego®, Holz, Metall und Schnüren eigene bionische Ideen bauen.
LOCATION:Frauentorgasse 72-74, 3430 Tulln
GEO:48.31857600;16.05586298
END:VEVENT
END:VCALENDAR