BEGIN:VCALENDAR
VERSION:2.0
PRODID:-//ERT//LNF26//DE
VERSION:2.0
BEGIN:VEVENT
UID:station_3613_20260424T170000Z
DTSTAMP:20260420T194000Z
URL:https://ert.langenachtderforschung.at/station/3613
DTSTART:20260424T170000Z
DTEND:20260424T180000Z
SUMMARY:[LNF26] Museumstour „Kinder des Krieges“
DESCRIPTION:Unsere Kulturvermittler:innen führen Sie durch unsere aktuellen Ausstellungen.
LOCATION:Kulturbezirk 5, 3100 St. Pölten
GEO:48.20026944;15.63139111
END:VEVENT
END:VCALENDAR