BEGIN:VCALENDAR
VERSION:2.0
PRODID:-//ERT//LNF26//DE
VERSION:2.0
BEGIN:VEVENT
UID:station_3614_20260424T160000Z
DTSTAMP:20260420T193800Z
URL:https://ert.langenachtderforschung.at/station/3614
DTSTART:20260424T160000Z
DTEND:20260424T170000Z
SUMMARY:[LNF26] Museumstour &#34;Stimmen der Wildnis&#34;
DESCRIPTION:Unsere Kulturvermittler:innen führen Sie durch unsere aktuellen Ausstellungen.
LOCATION:Kulturbezirk 5, 3100 St. Pölten
GEO:48.20026944;15.63139111
END:VEVENT
END:VCALENDAR