BEGIN:VCALENDAR
VERSION:2.0
PRODID:-//ERT//LNF26//DE
VERSION:2.0
BEGIN:VEVENT
UID:station_3618_20260324T160000Z
DTSTAMP:20260421T135200Z
URL:https://ert.langenachtderforschung.at/station/3618
DTSTART:20260324T160000Z
DTEND:20260424T210000Z
SUMMARY:[LNF26] Wie beeinflussen Pflanzen und ihre Mikroorganismen (Pilze und Bakterien) unsere Luft und unsere Gesundheit?
DESCRIPTION:Wir brauchen Luft zum Atmen, das ist lebensnotwendig. Aber weißt du, was in der Luft so rumschwirrt? Wie groß ist ein Virus, eine Polle oder eine Pilzspore? Wie kommen sie in die Luft und wieder raus? Was haben Bäume mit der Luftqualität der Stadt zu tun, und wie beeinflussen sie unsere Gesundheit?\nBastle deine eigenen Bioaerosole und finde die Antworten auf diese Fragen.
LOCATION:Konrad Lorenz Straße 24, 3430 Tulln
GEO:48.32077312;16.06863138
END:VEVENT
END:VCALENDAR