BEGIN:VCALENDAR
VERSION:2.0
PRODID:-//ERT//LNF26//DE
VERSION:2.0
BEGIN:VEVENT
UID:station_3624_20260324T160000Z
DTSTAMP:20260420T051900Z
URL:https://ert.langenachtderforschung.at/station/3624
DTSTART:20260324T160000Z
DTEND:20260424T200000Z
SUMMARY:[LNF26] Wie macht man Kosmetik aus Algen?
DESCRIPTION:Cyano Care entdeckt die Kraft der Algen neu. Algen enthalten viele wertvolle Wirkstoffe – nicht nur zum Essen, sondern auch für die Haut. Das Team erforscht, wie daraus pflegende Gesichtscremen entstehen. An der Station können Besucher:innen die Algencremen kennenlernen und direkt ausprobieren.
LOCATION:Frauentorgasse 72-74, 3430 Tulln
GEO:48.31857600;16.05586298
END:VEVENT
END:VCALENDAR