BEGIN:VCALENDAR
VERSION:2.0
PRODID:-//ERT//LNF26//DE
VERSION:2.0
BEGIN:VEVENT
UID:station_3627_20260324T160000Z
DTSTAMP:20260420T085700Z
URL:https://ert.langenachtderforschung.at/station/3627
DTSTART:20260324T160000Z
DTEND:20260424T203000Z
SUMMARY:[LNF26] Revolutionäre Innovationen mit Hilfe von Weltraumtechnologie?
DESCRIPTION:Wenn ihr wissen möchtet, welche tollen Anwendungen auf der Erde durch Weltraumtechnologie möglich sind, seid ihr hier bei der Brimatech richtig!
LOCATION:Viktor Kaplan Strasse 2 TFZ, 2700 Wiener Neustadt
GEO:47.83725022;16.25247860
END:VEVENT
END:VCALENDAR