BEGIN:VCALENDAR
VERSION:2.0
PRODID:-//ERT//LNF26//DE
VERSION:2.0
BEGIN:VEVENT
UID:station_3628_20260324T160000Z
DTSTAMP:20260424T085900Z
URL:https://ert.langenachtderforschung.at/station/3628
DTSTART:20260324T160000Z
DTEND:20260424T203000Z
SUMMARY:[LNF26] Wie wird aus einer Idee ein zukunftsfähiges Unternehmen?
DESCRIPTION:accent ist der Hightech-Inkubator des Landes Niederösterreich und somit der richtige Ansprechpartner für eine hochprofessionelle Unterstützung Ihres Technologie-Startups.
LOCATION:Viktor Kaplan Strasse 2 TFZ, 2700 Wiener Neustadt
GEO:47.83725022;16.25247860
END:VEVENT
END:VCALENDAR