BEGIN:VCALENDAR
VERSION:2.0
PRODID:-//ERT//LNF26//DE
VERSION:2.0
BEGIN:VEVENT
UID:station_3637_20260324T160000Z
DTSTAMP:20260421T135200Z
URL:https://ert.langenachtderforschung.at/station/3637
DTSTART:20260324T160000Z
DTEND:20260424T210000Z
SUMMARY:[LNF26] Mikrokosmos Kräuter: Entdeckst du die verborgenen Details?
DESCRIPTION:Bei uns entdeckst du, wie vielfältig und nützlich Kräuter im Garten sein können. Du riechst, fühlst und beobachtest verschiedene Kräuter und findest heraus, welche Insekten anlocken, den Boden stärken oder besonders schnell wachsen. Eine Station zum Ausprobieren, Staunen und Fragenstellen rund um Natur im Garten.
LOCATION:Konrad Lorenz Straße 24, 3430 Tulln
GEO:48.32077312;16.06863138
END:VEVENT
END:VCALENDAR