BEGIN:VCALENDAR
VERSION:2.0
PRODID:-//ERT//LNF26//DE
VERSION:2.0
BEGIN:VEVENT
UID:station_374_20260424T170000Z
DTSTAMP:20260424T053500Z
URL:https://ert.langenachtderforschung.at/station/374
DTSTART:20260424T170000Z
DTEND:20260424T172500Z
SUMMARY:[LNF26] Trick.Film.Kino - Ein Blick hinter die Kulissen!
DESCRIPTION:Die Besucher:innen bekommen einen praktischen Einblick in die Herstellung eines Kurzfilms anhand der Zusammenführung von Einzelbildern und erkunden so, wie die „Bilder laufen lernen“.
LOCATION:Dr-Karl-Dorrek-Straße 30 Trakt E, 3500 Krems an der Donau
GEO:48.40851390;15.58714485
END:VEVENT
END:VCALENDAR