BEGIN:VCALENDAR
VERSION:2.0
PRODID:-//ERT//LNF26//DE
VERSION:2.0
BEGIN:VEVENT
UID:station_3747_20260424T150000Z
DTSTAMP:20260420T020500Z
URL:https://ert.langenachtderforschung.at/station/3747
DTSTART:20260424T150000Z
DTEND:20260424T160000Z
SUMMARY:[LNF26] Schnee? Echt jetzt Frau Holle?! Ein Theaterstück mit Experimenten.
DESCRIPTION:Das interaktive Theaterstück mit Experimenten und Musik lädt Kinder und Familien von 17:00 Uhr bis 18:00 Uhr ein, die Welt von Frau Holle naturwissenschaftlich zu entdecken. Spielerisch werden Phänomene rund um Schnee, Wasser, Pflanzen und Farben erforscht. Interaktionen und Lieder lassen Wissenschaft lebendig werden – ganz nach dem Motto: neugierig sein, gemeinsam entdecken und staunen. KinderUniGraz
LOCATION:Hasnerplatz 12, 8010 Graz
GEO:47.08250200;15.43363926
END:VEVENT
END:VCALENDAR