BEGIN:VCALENDAR
VERSION:2.0
PRODID:-//ERT//LNF26//DE
VERSION:2.0
BEGIN:VEVENT
UID:station_3748_20260424T170000Z
DTSTAMP:20260420T003200Z
URL:https://ert.langenachtderforschung.at/station/3748
DTSTART:20260424T170000Z
DTEND:20260424T180000Z
SUMMARY:[LNF26] Magie, Mogel oder Meisterwerk– was geschah wirklich in Grimms Märchenland? KinderUniGraz
DESCRIPTION:Die Urenkel der Gebrüder Grimm brauchen eure Hilfe! War in den berühmten Märchen wirklich Magie im Spiel – oder steckt dahinter clevere Wissenschaft? Als neugierige Jungforscher*innen untersucht ihr an verschiedenen Stationen rätselhafte Märchen-Phänomene. Mit kritischem Blick und spannenden Experimenten entlarvt ihr die Tricks und entdeckt: Hinter dem Zauber steckt oft erstaunliches Wissen!
LOCATION:Hasnerplatz 12, 8010 Graz
GEO:47.08250200;15.43363926
END:VEVENT
END:VCALENDAR