BEGIN:VCALENDAR
VERSION:2.0
PRODID:-//ERT//LNF26//DE
VERSION:2.0
BEGIN:VEVENT
UID:station_3751_20260324T160000Z
DTSTAMP:20260420T003200Z
URL:https://ert.langenachtderforschung.at/station/3751
DTSTART:20260324T160000Z
DTEND:20260424T193000Z
SUMMARY:[LNF26] Mi(N)tmachen statt Zuschauen?
DESCRIPTION:Tauchen Sie ein in eine Welt voller Entdeckungen: eine rasante Rutschpartie der Zähflüssigkeit, turbulente Wetterphänomene, spannende Wald- und Holzgeheimnisse und selbst gepresste Spanplatten erwarten Sie als abwechslungsreiche Experimente. Ein verborgenes Geheimlabor zeigt Alltägliches aus völlig neuer Perspektive. Wer weiß, welches Geheimnis sich dahinter verbirgt? Kommen Sie vorbei und lassen sich überraschen!
LOCATION:Hasnerplatz 12, 8010 Graz
GEO:47.08250200;15.43363926
END:VEVENT
END:VCALENDAR